BEGIN:VCALENDAR
VERSION:2.0
PRODID:-//wp-events-plugin.com//7.2.3.1//EN
TZID:America/Los_Angeles
X-WR-TIMEZONE:America/Los_Angeles
BEGIN:VEVENT
UID:3354@sandiegona.org
DTSTART;TZID=America/Los_Angeles:20270529T140000
DTEND;TZID=America/Los_Angeles:20270529T150000
DTSTAMP:20260128T055604Z
URL:https://sandiegona.org/events/beach-area-literature-review-2027-05-29/
SUMMARY:Beach Area Literature Review
DESCRIPTION:All are welcome to attend a monthly Beach Area Literature Revie
 w sub-committee meeting at a local Pacific Beach Coffee Shop\nWhen:\nWe me
 et on the last Saturday of the month to discuss and review topics in our e
 volving literature.\nTime:\n2-3 pm\nLocation:\n1641 Grand Ave\, San Diego\
 , CA 92109\n
ATTACH;FMTTYPE=image/jpeg:https://sandiegona.org/wp-content/uploads/2025/0
 4/lit-review.svg
CATEGORIES:Beach Subcommittee,Service,Subcommittee
LOCATION:Pacific Beach Coffee Shop\, 1641 Grand Ave\, San Diego\, CA\, 9210
 9\, 
X-APPLE-STRUCTURED-LOCATION;VALUE=URI;X-ADDRESS=1641 Grand Ave\, San Diego\
 , CA\, 92109\, ;X-APPLE-RADIUS=100;X-TITLE=Pacific Beach Coffee Shop:geo:0
 ,0
END:VEVENT
BEGIN:VTIMEZONE
TZID:America/Los_Angeles
X-LIC-LOCATION:America/Los_Angeles
BEGIN:DAYLIGHT
DTSTART:20270314T030000
TZOFFSETFROM:-0800
TZOFFSETTO:-0700
TZNAME:PDT
END:DAYLIGHT
END:VTIMEZONE
END:VCALENDAR