BEGIN:VCALENDAR
VERSION:2.0
PRODID:-//wp-events-plugin.com//7.2.3.1//EN
TZID:America/Los_Angeles
X-WR-TIMEZONE:America/Los_Angeles
BEGIN:VEVENT
UID:3493@sandiegona.org
DTSTART;TZID=America/Los_Angeles:20270904T140000
DTEND;TZID=America/Los_Angeles:20270904T150000
DTSTAMP:20260415T204108Z
URL:https://sandiegona.org/events/beach-area-public-information-2027-09-04
 /
SUMMARY:Beach Area Public Information
DESCRIPTION:Beach Area Public Information\nThe Public Information subcommit
 tee meets monthly to strategize on how to inform the public about Narcotic
 s Anonymous to the best of our ability in the beach area.\n2111 Camino del
  Rio South\, San Diego\, 92108\nFor more information or any questions\, pl
 ease call or text Victor C. - 858-245-3693\n
ATTACH;FMTTYPE=image/jpeg:https://sandiegona.org/wp-content/uploads/2026/0
 2/Beach_Area-Public_information.png
CATEGORIES:Beach Subcommittee,Events,Public
 Information,Service,Subcommittee
LOCATION:RSO\, 2111 Camino del Rio South\, San Diego\, CA\, 92108\, United 
 States
X-APPLE-STRUCTURED-LOCATION;VALUE=URI;X-ADDRESS=2111 Camino del Rio South\,
  San Diego\, CA\, 92108\, United States;X-APPLE-RADIUS=100;X-TITLE=RSO:geo
 :0,0
END:VEVENT
BEGIN:VTIMEZONE
TZID:America/Los_Angeles
X-LIC-LOCATION:America/Los_Angeles
BEGIN:DAYLIGHT
DTSTART:20270314T030000
TZOFFSETFROM:-0800
TZOFFSETTO:-0700
TZNAME:PDT
END:DAYLIGHT
END:VTIMEZONE
END:VCALENDAR