BEGIN:VCALENDAR
VERSION:2.0
PRODID:-//wp-events-plugin.com//7.2.3.1//EN
TZID:America/Los_Angeles
X-WR-TIMEZONE:America/Los_Angeles
BEGIN:VEVENT
UID:1690@sandiegona.org
DTSTART;TZID=America/Los_Angeles:20340701T150000
DTEND;TZID=America/Los_Angeles:20340701T173000
DTSTAMP:20260209T165956Z
URL:https://sandiegona.org/events/beach-area-service-committee-meeting-203
 4-07-01/
SUMMARY:Beach Area Service Committee Meeting
DESCRIPTION:The Beach Area Service Committee meets on the first Saturday of
  every month at the RSO in Mission Valley at 3:00 PM - park in Parking Lot
  2 (P2)
ATTACH;FMTTYPE=image/jpeg:https://sandiegona.org/wp-content/uploads/2025/0
 2/Beach-ASC.png
CATEGORIES:Area Service Committee Meeting,Service
LOCATION:RSO\, 2111 Camino del Rio South\, San Diego\, CA\, 92108\, United 
 States
X-APPLE-STRUCTURED-LOCATION;VALUE=URI;X-ADDRESS=2111 Camino del Rio South\,
  San Diego\, CA\, 92108\, United States;X-APPLE-RADIUS=100;X-TITLE=RSO:geo
 :0,0
END:VEVENT
BEGIN:VTIMEZONE
TZID:America/Los_Angeles
X-LIC-LOCATION:America/Los_Angeles
BEGIN:DAYLIGHT
DTSTART:20340312T030000
TZOFFSETFROM:-0800
TZOFFSETTO:-0700
TZNAME:PDT
END:DAYLIGHT
END:VTIMEZONE
END:VCALENDAR