BEGIN:VCALENDAR
VERSION:2.0
PRODID:-//wp-events-plugin.com//7.2.3.1//EN
TZID:America/Los_Angeles
X-WR-TIMEZONE:America/Los_Angeles
BEGIN:VEVENT
UID:3812@sandiegona.org
DTSTART;TZID=America/Los_Angeles:20270624T183000
DTEND;TZID=America/Los_Angeles:20270624T193000
DTSTAMP:20260406T191242Z
URL:https://sandiegona.org/events/central-activities-subcommittee-meeting-
 2027-06-24/
SUMMARY:Central Activities Subcommittee Meeting
DESCRIPTION:Central Activities Subcommittee Meeting\nWe meet every 4th Thur
 sday at 6:30 pm\nZoom:\nLogin ID: 881-1797-1675\nPasscode: activities
ATTACH;FMTTYPE=image/jpeg:https://sandiegona.org/wp-content/uploads/2026/0
 3/Central-Actvities-4th-Thrusday-2026-Web.png
CATEGORIES:Central Subcommittee,Service,Subcommittee
LOCATION:https://zoom.us/join
END:VEVENT
BEGIN:VTIMEZONE
TZID:America/Los_Angeles
X-LIC-LOCATION:America/Los_Angeles
BEGIN:DAYLIGHT
DTSTART:20270314T030000
TZOFFSETFROM:-0800
TZOFFSETTO:-0700
TZNAME:PDT
END:DAYLIGHT
END:VTIMEZONE
END:VCALENDAR