BEGIN:VCALENDAR
VERSION:2.0
PRODID:-//wp-events-plugin.com//7.2.3.1//EN
TZID:America/Los_Angeles
X-WR-TIMEZONE:America/Los_Angeles
BEGIN:VEVENT
UID:3456@sandiegona.org
DTSTART;TZID=America/Los_Angeles:20290203T093000
DTEND;TZID=America/Los_Angeles:20290203T103000
DTSTAMP:20260415T202939Z
URL:https://sandiegona.org/events/central-area-public-information-needs-su
 pport-2029-02-03/
SUMMARY:Central Area Public Information Needs Support
DESCRIPTION:Central Area Public Information Needs Support\nWhat is Public I
 nformation (PI)?\nPublic information (PI) service enables us to share our 
 message with the public\, which includes the addict who still suffers\, as
  well as others who work or come in contact with addicts in the community.
  Our aim is to let the public know NA exists\, that our program works\, an
 d where to find us.\n\n\n\n\nWhat does PI do?\nWe provide information abou
 t NA\, answer questions about our program\, offer relevant IPs and meeting
  schedules\, and offer an opportunity to contact us for more information.
   We always serve alongside another PI service member when doing booth se
 rvice.\n\n\n\n\nHow does PI serve the Central Area?\nSome of the specific 
 ways we currently serve :\n\n\n 	Sit at PI booths in the community. San Di
 ego County Fair\, Stand Down\, Pride\, Adams Avenue Street Fair  \n 	Dro
 p off current meeting schedules and IPs monthly\, or as needed\, to facili
 ties with which we have an established relationship. \n 	Respond to PI re
 quests in the Central Area.\n 	Identify &amp\; implement ways to get our m
 essage out to the public that don't necessarily involve concerns about per
 sonal anonymity.\n\n\n\n\nWhy do we need your help?\nCentral Area PI value
 s and needs your input\, suggestions\, feedback\, and participation. There
  are several opportunities to serve behind the scenes if booth work is not
  of interest. \n\n\n\n\nHow do I get involved?\nWe invite you to our mont
 hly PI subcommittee meeting to help identify the best ways to inform the p
 ublic about NA in the Central Area.\nCheck out our ad on the SDICRNA Servi
 ce Classifieds for open positions.  We will provide an orientation and PI
  guidelines.\nWe meet on the first Saturday of every month at 9:30 am\nZoo
 m ID: 829 4981 4922\nPasscode: 136738
ATTACH;FMTTYPE=image/jpeg:https://sandiegona.org/wp-content/uploads/2026/0
 2/Central-Area_20260217_083232_0000.png
CATEGORIES:Central Subcommittee,Events,Public
 Information,Service,Subcommittee
LOCATION:https://zoom.us/join
END:VEVENT
BEGIN:VTIMEZONE
TZID:America/Los_Angeles
X-LIC-LOCATION:America/Los_Angeles
BEGIN:STANDARD
DTSTART:20281105T010000
TZOFFSETFROM:-0700
TZOFFSETTO:-0800
TZNAME:PST
END:STANDARD
END:VTIMEZONE
END:VCALENDAR