BEGIN:VCALENDAR
VERSION:2.0
PRODID:-//wp-events-plugin.com//7.2.3.1//EN
TZID:America/Los_Angeles
X-WR-TIMEZONE:America/Los_Angeles
BEGIN:VEVENT
UID:2001@sandiegona.org
DTSTART;TZID=America/Los_Angeles:20320124T093000
DTEND;TZID=America/Los_Angeles:20320124T123000
DTSTAMP:20251014T002539Z
URL:https://sandiegona.org/events/central-area-service-committee-meeting-2
 032-01-24/
SUMMARY:Central Area Service Committee Meeting
DESCRIPTION:The Central Area Service Committee meets on the fourth Saturday
  of every month at 2111 Camino del Rio South San Diego\, 92108\, at 9:30 a
 m
ATTACH;FMTTYPE=image/jpeg:https://sandiegona.org/wp-content/uploads/2025/0
 2/Central-ASC.png
CATEGORIES:Area Service Committee Meeting,Service
LOCATION:RSO\, 2111 Camino del Rio South\, San Diego\, CA\, 92108\, United 
 States
X-APPLE-STRUCTURED-LOCATION;VALUE=URI;X-ADDRESS=2111 Camino del Rio South\,
  San Diego\, CA\, 92108\, United States;X-APPLE-RADIUS=100;X-TITLE=RSO:geo
 :0,0
END:VEVENT
BEGIN:VTIMEZONE
TZID:America/Los_Angeles
X-LIC-LOCATION:America/Los_Angeles
BEGIN:STANDARD
DTSTART:20311102T010000
TZOFFSETFROM:-0700
TZOFFSETTO:-0800
TZNAME:PST
END:STANDARD
END:VTIMEZONE
END:VCALENDAR