BEGIN:VCALENDAR
VERSION:2.0
PRODID:-//wp-events-plugin.com//7.2.3.1//EN
TZID:America/Los_Angeles
X-WR-TIMEZONE:America/Los_Angeles
BEGIN:VEVENT
UID:3845@sandiegona.org
DTSTART;TZID=America/Los_Angeles:20260509T110000
DTEND;TZID=America/Los_Angeles:20260509T140000
DTSTAMP:20260417T154739Z
URL:https://sandiegona.org/events/clean-clever-learning-day-trivia/
SUMMARY:Clean & Clever: Learning Day + Trivia
DESCRIPTION:Clean &amp\; Clever: Learning Day + Trivia\nUnited East County 
 Activities Committee presents our learning day with a twist!\nWe’ve adde
 d Narcotics Anonymous trivia to the day!\nCome out and learn about service
  commitments\, sub-committees\, and test your knowledge on our program!\nG
 reat way to learn and have fun!\n\nLocation:\nTecolote Shores South Playgr
 ound\nLocation Type (Park\, club\, church\, etc.)\nPark\nLocation Notes:\n
 Please Google search “Tecolote Shores South Playground” to get pointed
  in the right direction.\nRefer to the map. Call either contact number for
  help! We’ll get you there.\n\n\n\n\nContact Info:\nLindsey - Activities
  Chair - 6194867621
ATTACH;FMTTYPE=image/jpeg:https://sandiegona.org/wp-content/uploads/formin
 ator/6338_0e3333ed9f6cdf5662290b487a2c51b0/uploads/9mNqaght3D3y-IMG_7375.j
 peg
CATEGORIES:Events,Social/Activities
END:VEVENT
BEGIN:VTIMEZONE
TZID:America/Los_Angeles
X-LIC-LOCATION:America/Los_Angeles
BEGIN:DAYLIGHT
DTSTART:20260308T030000
TZOFFSETFROM:-0800
TZOFFSETTO:-0700
TZNAME:PDT
END:DAYLIGHT
END:VTIMEZONE
END:VCALENDAR