BEGIN:VCALENDAR
VERSION:2.0
PRODID:-//wp-events-plugin.com//7.2.3.1//EN
TZID:America/Los_Angeles
X-WR-TIMEZONE:America/Los_Angeles
BEGIN:VEVENT
UID:3773@sandiegona.org
DTSTART;TZID=America/Los_Angeles:20260515T160000
DTEND;TZID=America/Los_Angeles:20260517T120000
DTSTAMP:20260316T044737Z
URL:https://sandiegona.org/events/convencion-area-habla-hispana-de-san-die
 go/
SUMMARY:Convención Area Habla Hispana De San Diego
DESCRIPTION:Convención Área Habla Hispana De San Diego\nThis is a 3-day c
 onvention in a Spanish-speaking convention with a few English speakers as 
 well\nAddress:\n950 Hotel Cir N\, San Diego\, 92108\n\nLocation Type (Park
 \, club\, church\, etc.)\nHandlery Hotel\n\nLocation Notes\nParking cost f
 or a non-stay visitor is $10 a day\n\n7th Tradition / Cost of Event\n40.00
  USD\n\n\n\nContact Info:\nKatherine - Activities Chair - (619) 565-0330
ATTACH;FMTTYPE=image/jpeg:https://sandiegona.org/wp-content/uploads/formin
 ator/6338_0e3333ed9f6cdf5662290b487a2c51b0/uploads/XLmWlToN6VfR-att.Dk2SE6
 MLhx-WkQgoGxCA2zRkJMvB8CLYHOYWUCxopMs.jpeg
CATEGORIES:Events,Social/Activities
LOCATION:Mission Valley Hotel\, 950 Hotel Cir N\, San Diego\, CA\, 92108\, 
X-APPLE-STRUCTURED-LOCATION;VALUE=URI;X-ADDRESS=950 Hotel Cir N\, San Diego
 \, CA\, 92108\, ;X-APPLE-RADIUS=100;X-TITLE=Mission Valley Hotel:geo:0,0
END:VEVENT
BEGIN:VTIMEZONE
TZID:America/Los_Angeles
X-LIC-LOCATION:America/Los_Angeles
BEGIN:DAYLIGHT
DTSTART:20260308T030000
TZOFFSETFROM:-0800
TZOFFSETTO:-0700
TZNAME:PDT
END:DAYLIGHT
END:VTIMEZONE
END:VCALENDAR