BEGIN:VCALENDAR
VERSION:2.0
PRODID:-//wp-events-plugin.com//7.2.3.1//EN
TZID:America/Los_Angeles
X-WR-TIMEZONE:America/Los_Angeles
BEGIN:VEVENT
UID:3243@sandiegona.org
DTSTART;TZID=America/Los_Angeles:20281216T150000
DTEND;TZID=America/Los_Angeles:20281216T150000
DTSTAMP:20250505T162821Z
URL:https://sandiegona.org/events/convention-subcommittee-meeting-2028-12-
 16/
SUMMARY:Convention Subcommittee Meeting
DESCRIPTION:We meet on the 3rd Saturday of every month at the RSO\nDiscuss 
 upcoming events and decisions related to the Narcotics Anonymous Conventio
 n
ATTACH;FMTTYPE=image/jpeg:https://sandiegona.org/wp-content/uploads/2025/0
 2/stadium-485328_1280.jpg
CATEGORIES:Regional Service Meetings,Service,Subcommittee
LOCATION:RSO\, 2111 Camino del Rio South\, San Diego\, CA\, 92108\, United 
 States
X-APPLE-STRUCTURED-LOCATION;VALUE=URI;X-ADDRESS=2111 Camino del Rio South\,
  San Diego\, CA\, 92108\, United States;X-APPLE-RADIUS=100;X-TITLE=RSO:geo
 :0,0
END:VEVENT
BEGIN:VTIMEZONE
TZID:America/Los_Angeles
X-LIC-LOCATION:America/Los_Angeles
BEGIN:STANDARD
DTSTART:20281105T010000
TZOFFSETFROM:-0700
TZOFFSETTO:-0800
TZNAME:PST
END:STANDARD
END:VTIMEZONE
END:VCALENDAR