BEGIN:VCALENDAR
VERSION:2.0
PRODID:-//wp-events-plugin.com//7.2.3.1//EN
TZID:America/Los_Angeles
X-WR-TIMEZONE:America/Los_Angeles
BEGIN:VEVENT
UID:2761@sandiegona.org
DTSTART;TZID=America/Los_Angeles:20280105T183000
DTEND;TZID=America/Los_Angeles:20280105T203000
DTSTAMP:20250506T003707Z
URL:https://sandiegona.org/events/events-subcommittee-2028-01-05/
SUMMARY:Activities Subcommittee
DESCRIPTION:We meet on the 1st Wednesday of every month at the RSO
ATTACH;FMTTYPE=image/jpeg:https://sandiegona.org/wp-content/uploads/2025/0
 2/beach-bonfire.png
CATEGORIES:Regional Service Meetings,Service,Subcommittee
LOCATION:RSO\, 2111 Camino del Rio South\, San Diego\, CA\, 92108\, United 
 States
X-APPLE-STRUCTURED-LOCATION;VALUE=URI;X-ADDRESS=2111 Camino del Rio South\,
  San Diego\, CA\, 92108\, United States;X-APPLE-RADIUS=100;X-TITLE=RSO:geo
 :0,0
END:VEVENT
BEGIN:VTIMEZONE
TZID:America/Los_Angeles
X-LIC-LOCATION:America/Los_Angeles
BEGIN:STANDARD
DTSTART:20271107T010000
TZOFFSETFROM:-0700
TZOFFSETTO:-0800
TZNAME:PST
END:STANDARD
END:VTIMEZONE
END:VCALENDAR