BEGIN:VCALENDAR
VERSION:2.0
PRODID:-//wp-events-plugin.com//7.2.3.1//EN
TZID:America/Los_Angeles
X-WR-TIMEZONE:America/Los_Angeles
BEGIN:VEVENT
UID:2506@sandiegona.org
DTSTART;TZID=America/Los_Angeles:20280224T183000
DTEND;TZID=America/Los_Angeles:20280224T203000
DTSTAMP:20250422T171309Z
URL:https://sandiegona.org/events/habla-hispana-area-service-committee-202
 8-02-24/
SUMMARY:Reunión del Comité de Servicio del Área de Habla Hispana
DESCRIPTION:Nos reunimos cada mes el cuarto jueves a las 6:30 p. m. en 2687
  National Ave. SD 92113
ATTACH;FMTTYPE=image/jpeg:https://sandiegona.org/wp-content/uploads/2025/0
 3/habla-asc.jpeg
CATEGORIES:Area Service Committee Meeting,Comité de Servicio del
 Área,Service
LOCATION:Salón de billar\, 2687 National Ave\, San Diego\, CA\, 92113\, Un
 ited States
X-APPLE-STRUCTURED-LOCATION;VALUE=URI;X-ADDRESS=2687 National Ave\, San Die
 go\, CA\, 92113\, United States;X-APPLE-RADIUS=100;X-TITLE=Salón de billa
 r:geo:0,0
END:VEVENT
BEGIN:VTIMEZONE
TZID:America/Los_Angeles
X-LIC-LOCATION:America/Los_Angeles
BEGIN:STANDARD
DTSTART:20271107T010000
TZOFFSETFROM:-0700
TZOFFSETTO:-0800
TZNAME:PST
END:STANDARD
END:VTIMEZONE
END:VCALENDAR