BEGIN:VCALENDAR
VERSION:2.0
PRODID:-//wp-events-plugin.com//7.2.3.1//EN
TZID:America/Los_Angeles
X-WR-TIMEZONE:America/Los_Angeles
BEGIN:VEVENT
UID:2828@sandiegona.org
DTSTART;TZID=America/Los_Angeles:20280628T183000
DTEND;TZID=America/Los_Angeles:20280628T203000
DTSTAMP:20250710T144347Z
URL:https://sandiegona.org/events/hospitals-institutions-workgroup-2028-06
 -28/
SUMMARY:Hospitals & Institutions Workgroup
DESCRIPTION:We meet on the 4th Wednesday of every month at 6:30 pm at the R
 SO\nDiscuss upcoming events and decisions related to Hospitals and institu
 tions
ATTACH;FMTTYPE=image/jpeg:https://sandiegona.org/wp-content/uploads/2025/0
 2/door-349807_1280.jpg
CATEGORIES:Regional Service Meetings,Service,Workgroup
LOCATION:https://meet.google.com/yyc-hbkj-bdv?hs=224
END:VEVENT
BEGIN:VTIMEZONE
TZID:America/Los_Angeles
X-LIC-LOCATION:America/Los_Angeles
BEGIN:DAYLIGHT
DTSTART:20280312T030000
TZOFFSETFROM:-0800
TZOFFSETTO:-0700
TZNAME:PDT
END:DAYLIGHT
END:VTIMEZONE
END:VCALENDAR