BEGIN:VCALENDAR
VERSION:2.0
PRODID:-//wp-events-plugin.com//7.2.3.1//EN
TZID:America/Los_Angeles
X-WR-TIMEZONE:America/Los_Angeles
BEGIN:VEVENT
UID:2147@sandiegona.org
DTSTART;TZID=America/Los_Angeles:20260530T090000
DTEND;TZID=America/Los_Angeles:20260530T103000
DTSTAMP:20250422T171326Z
URL:https://sandiegona.org/events/imperial-valley-area-service-committee-2
 026-05-30/
SUMMARY:Imperial Valley Area Service Committee Meeting
DESCRIPTION:The Imperial Valley Area Service Committee meets the last Satur
 day of the month\, every two months at 9:00 am at 564 Broadway St.\, El Ce
 ntro\, CA 92243
ATTACH;FMTTYPE=image/jpeg:https://sandiegona.org/wp-content/uploads/2025/0
 2/Imperial-Valley-ASC.png
CATEGORIES:Area Service Committee Meeting,Service
LOCATION:Clubhouse\, 564 Broadway St.\, El Centro\, CA\, 92243\, United Sta
 tes
X-APPLE-STRUCTURED-LOCATION;VALUE=URI;X-ADDRESS=564 Broadway St.\, El Centr
 o\, CA\, 92243\, United States;X-APPLE-RADIUS=100;X-TITLE=Clubhouse:geo:0,
 0
END:VEVENT
BEGIN:VTIMEZONE
TZID:America/Los_Angeles
X-LIC-LOCATION:America/Los_Angeles
BEGIN:DAYLIGHT
DTSTART:20260308T030000
TZOFFSETFROM:-0800
TZOFFSETTO:-0700
TZNAME:PDT
END:DAYLIGHT
END:VTIMEZONE
END:VCALENDAR