BEGIN:VCALENDAR
VERSION:2.0
PRODID:-//wp-events-plugin.com//7.2.3.1//EN
TZID:America/Los_Angeles
X-WR-TIMEZONE:America/Los_Angeles
BEGIN:VEVENT
UID:2168@sandiegona.org
DTSTART;TZID=America/Los_Angeles:20291124T090000
DTEND;TZID=America/Los_Angeles:20291124T103000
DTSTAMP:20250422T171326Z
URL:https://sandiegona.org/events/imperial-valley-area-service-committee-2
 029-11-24/
SUMMARY:Imperial Valley Area Service Committee Meeting
DESCRIPTION:The Imperial Valley Area Service Committee meets the last Satur
 day of the month\, every two months at 9:00 am at 564 Broadway St.\, El Ce
 ntro\, CA 92243
ATTACH;FMTTYPE=image/jpeg:https://sandiegona.org/wp-content/uploads/2025/0
 2/Imperial-Valley-ASC.png
CATEGORIES:Area Service Committee Meeting,Service
LOCATION:Clubhouse\, 564 Broadway St.\, El Centro\, CA\, 92243\, United Sta
 tes
X-APPLE-STRUCTURED-LOCATION;VALUE=URI;X-ADDRESS=564 Broadway St.\, El Centr
 o\, CA\, 92243\, United States;X-APPLE-RADIUS=100;X-TITLE=Clubhouse:geo:0,
 0
END:VEVENT
BEGIN:VTIMEZONE
TZID:America/Los_Angeles
X-LIC-LOCATION:America/Los_Angeles
BEGIN:STANDARD
DTSTART:20291104T010000
TZOFFSETFROM:-0700
TZOFFSETTO:-0800
TZNAME:PST
END:STANDARD
END:VTIMEZONE
END:VCALENDAR