BEGIN:VCALENDAR
VERSION:2.0
PRODID:-//wp-events-plugin.com//7.2.3.1//EN
TZID:America/Los_Angeles
X-WR-TIMEZONE:America/Los_Angeles
BEGIN:VEVENT
UID:2899@sandiegona.org
DTSTART;TZID=America/Los_Angeles:20290402T000000
DTEND;TZID=America/Los_Angeles:20290402T000000
DTSTAMP:20260201T185344Z
URL:https://sandiegona.org/events/na-behind-the-walls-workgroup-2029-04-02
 /
SUMMARY:NA Behind the Walls
DESCRIPTION:The Behind the Walls program is designed to provide temporary s
 ponsorship to those who are currently incarcerated as a result of the dise
 ase of addiction. It is focused on those addicts behind the walls who desi
 re to begin working the 12 Steps of Narcotics Anonymous.\n\nAll correspond
 ence is delivered via a third party to protect the anonymity of our member
 s providing temporary sponsorship. \n\nIf you would like more information 
 or if you are interested in becoming a temporary sponsor for an addict who
  is currently in need and incarcerated\, please fill out the form below\, 
 and someone will contact you.\n\n[forminator_form id="12098"]
ATTACH;FMTTYPE=image/jpeg:https://sandiegona.org/wp-content/uploads/2025/0
 2/behind-the-walls-1024x768-1.jpg
CATEGORIES:Regional Service Meetings,Service,Subcommittee,Workgroup
END:VEVENT
BEGIN:VTIMEZONE
TZID:America/Los_Angeles
X-LIC-LOCATION:America/Los_Angeles
BEGIN:DAYLIGHT
DTSTART:20290311T030000
TZOFFSETFROM:-0800
TZOFFSETTO:-0700
TZNAME:PDT
END:DAYLIGHT
END:VTIMEZONE
END:VCALENDAR