BEGIN:VCALENDAR
VERSION:2.0
PRODID:-//wp-events-plugin.com//7.2.3.1//EN
TZID:America/Los_Angeles
X-WR-TIMEZONE:America/Los_Angeles
BEGIN:VEVENT
UID:2217@sandiegona.org
DTSTART;TZID=America/Los_Angeles:20281125T183000
DTEND;TZID=America/Los_Angeles:20281125T200000
DTSTAMP:20250422T171344Z
URL:https://sandiegona.org/events/north-coastal-area-service-committee-202
 8-11-25/
SUMMARY:North Coastal Area Service Committee Meeting
DESCRIPTION:The North Coastal Area Service Committee meets the last Saturda
 y of every month at 6:30 pm at 651 Eucalyptus Ave.\, Vista\, CA 92084
ATTACH;FMTTYPE=image/jpeg:https://sandiegona.org/wp-content/uploads/2025/0
 2/N-Coastal-ASC.png
CATEGORIES:Area Service Committee Meeting,Service
LOCATION:Hall\, 651 Eucalyptus Ave\, Vista\, CA\, 92084\, United States
X-APPLE-STRUCTURED-LOCATION;VALUE=URI;X-ADDRESS=651 Eucalyptus Ave\, Vista\
 , CA\, 92084\, United States;X-APPLE-RADIUS=100;X-TITLE=Hall:geo:0,0
END:VEVENT
BEGIN:VTIMEZONE
TZID:America/Los_Angeles
X-LIC-LOCATION:America/Los_Angeles
BEGIN:STANDARD
DTSTART:20281105T010000
TZOFFSETFROM:-0700
TZOFFSETTO:-0800
TZNAME:PST
END:STANDARD
END:VTIMEZONE
END:VCALENDAR