BEGIN:VCALENDAR
VERSION:2.0
PRODID:-//wp-events-plugin.com//7.2.3.1//EN
TZID:America/Los_Angeles
X-WR-TIMEZONE:America/Los_Angeles
BEGIN:VEVENT
UID:2273@sandiegona.org
DTSTART;TZID=America/Los_Angeles:20290527T183000
DTEND;TZID=America/Los_Angeles:20290527T203000
DTSTAMP:20250422T171400Z
URL:https://sandiegona.org/events/north-county-inland-area-service-committ
 ee-2029-05-27/
SUMMARY:North County Inland Area Service Committee Meeting
DESCRIPTION:The North County Inland Area Service Committee meets on the fou
 rth Sunday of every month at 6:30 p.m. at 639 E.17th Ave. Rm 21\, Escondid
 o\, CA 92025
ATTACH;FMTTYPE=image/jpeg:https://sandiegona.org/wp-content/uploads/2025/0
 2/N.-Cty-Inland-ASC.png
CATEGORIES:Area Service Committee Meeting,Service
LOCATION:Church\, 639 E.17th Ave. Rm 21\, Escondido\, CA\, 92025\, United S
 tates
X-APPLE-STRUCTURED-LOCATION;VALUE=URI;X-ADDRESS=639 E.17th Ave. Rm 21\, Esc
 ondido\, CA\, 92025\, United States;X-APPLE-RADIUS=100;X-TITLE=Church:geo:
 0,0
END:VEVENT
BEGIN:VTIMEZONE
TZID:America/Los_Angeles
X-LIC-LOCATION:America/Los_Angeles
BEGIN:DAYLIGHT
DTSTART:20290311T030000
TZOFFSETFROM:-0800
TZOFFSETTO:-0700
TZNAME:PDT
END:DAYLIGHT
END:VTIMEZONE
END:VCALENDAR