BEGIN:VCALENDAR
VERSION:2.0
PRODID:-//wp-events-plugin.com//7.2.3.1//EN
TZID:America/Los_Angeles
X-WR-TIMEZONE:America/Los_Angeles
BEGIN:VEVENT
UID:2927@sandiegona.org
DTSTART;TZID=America/Los_Angeles:20260707T193000
DTEND;TZID=America/Los_Angeles:20260707T203000
DTSTAMP:20260424T043019Z
URL:https://sandiegona.org/events/outreach-subcommittee-2026-07-07/
SUMMARY:Outreach Subcommittee
DESCRIPTION:We meet on the first Tuesday of every month at 7:30 pm at the R
 SO\n2111 Camino del Río S\, San Diego\, 92108\n\nOutreach Documents - Dow
 nloads\n\n\n\n\n\n\n\nSan Diego/Imperial Region\nOutreach Subcommittee Gui
 delines\nApril - 2026\n\n\n\n\n\n\n\n\n\n\n\n\n\n\n\n\n\n\nPage Title: Esp
 añol Alcancé\nSugerencias para Inventario de Grupo\nStanding Rule #14 as
  approved-esp\nStamp icon Story_eng-esp\nDeclaración de Claridad_2010\nBr
 ochure-Folleto Servicio Alcancé dentro NA-v2T1-esp\nAuto Suficiencia de u
 n Grupo de NA\n\n\n\n\n\n\nPage Title: BMLT Admin Info\nStanding Rule #14 
 as approved\n\n\n\n\n\n\n\n\n\n\n\n\n\n\n\nBMLT Administrators statement-g
 eneric-2023 aug_v4\n\n\n\n\n\n\n\n\nPage Title: Outreach Topics\nStamp Ico
 n Story\nBrochure-Outreach Service Within NA\nPage Title: Group Support Ma
 terials\nQuestions 4 mtg problems\nGroup Self-Sufficiency Doc 2012\nGroup 
 Inventory Suggestions\n\n\n\n\n\n\n\n\n
ATTACH;FMTTYPE=image/jpeg:https://sandiegona.org/wp-content/uploads/2025/0
 2/Outreach-logo.jpg
CATEGORIES:Regional Service Meetings,Service,Subcommittee
LOCATION:RSO\, 2111 Camino del Rio South\, San Diego\, CA\, 92108\, United 
 States
X-APPLE-STRUCTURED-LOCATION;VALUE=URI;X-ADDRESS=2111 Camino del Rio South\,
  San Diego\, CA\, 92108\, United States;X-APPLE-RADIUS=100;X-TITLE=RSO:geo
 :0,0
END:VEVENT
BEGIN:VTIMEZONE
TZID:America/Los_Angeles
X-LIC-LOCATION:America/Los_Angeles
BEGIN:DAYLIGHT
DTSTART:20260308T030000
TZOFFSETFROM:-0800
TZOFFSETTO:-0700
TZNAME:PDT
END:DAYLIGHT
END:VTIMEZONE
END:VCALENDAR