BEGIN:VCALENDAR
VERSION:2.0
PRODID:-//wp-events-plugin.com//7.2.3.1//EN
TZID:America/Los_Angeles
X-WR-TIMEZONE:America/Los_Angeles
BEGIN:VEVENT
UID:3022@sandiegona.org
DTSTART;TZID=America/Los_Angeles:20290506T110000
DTEND;TZID=America/Los_Angeles:20290506T120000
DTSTAMP:20251207T190311Z
URL:https://sandiegona.org/events/phoneline-workgroup-2029-05-06/
SUMMARY:Phoneline Workgroup
DESCRIPTION:&nbsp\;\nWe meet on the first Sunday of every month @ 11 am\nGo
 ogle Meet:\nhttps://meet.google.com/hns-zstn-skj\n&nbsp\;
ATTACH;FMTTYPE=image/jpeg:https://sandiegona.org/wp-content/uploads/2025/0
 2/phone-735062_1280.jpg
CATEGORIES:Regional Service Meetings,Service,Workgroup
LOCATION:https://meet.google.com/hns-zstn-skj
END:VEVENT
BEGIN:VTIMEZONE
TZID:America/Los_Angeles
X-LIC-LOCATION:America/Los_Angeles
BEGIN:DAYLIGHT
DTSTART:20290311T030000
TZOFFSETFROM:-0800
TZOFFSETTO:-0700
TZNAME:PDT
END:DAYLIGHT
END:VTIMEZONE
END:VCALENDAR