BEGIN:VCALENDAR
VERSION:2.0
PRODID:-//wp-events-plugin.com//7.2.3.1//EN
TZID:America/Los_Angeles
X-WR-TIMEZONE:America/Los_Angeles
BEGIN:VEVENT
UID:3781@sandiegona.org
DTSTART;TZID=America/Los_Angeles:20260513T100000
DTEND;TZID=America/Los_Angeles:20260517T100000
DTSTAMP:20260327T045159Z
URL:https://sandiegona.org/events/recovery-%e2%9d%a4%ef%b8%8f%f0%9f%a9%b9-
 in-the-rapids/
SUMMARY:Recovery &#x2764\;&#xfe0f\;&#x200d\;&#x1fa79\; In The Rapids
DESCRIPTION:Recovery  In The Rapids\nBeach Area Activities invites you to
  participate in the 22nd Annual “Recovery In the Rapids Campout.\nCome j
 oin us for a weekend of fun.\nYou can raft\, fish\, hike\, go see the gian
 t Sequoia trees\, go to the hot springs\, play volleyball\, or just relax 
 in one of the prettiest little towns in California.\nThe campground is rig
 ht on the river.\nMAY 13-17 2026\nPricing for Camping 5/15 through 5/17 (2
  Nites) $30\n5/14 thru 5/17 (3 Nites) $40\n5/13 thru 5/17 (4 Nites) $50\nP
 rices are per person for tent camping.\nIf you plan on bringing a trailer 
 or RV\, prices will vary\, and space is very limited.\nPlease contact the 
 committee in advance or make arrangements through Frandy's Campsite +1 (88
 8) 372-6399\nFishing does require a Valid California Fishing License.\nThe
 y can be purchased in Kernville.\nRafting Pricing\n(Not affiliated with NA
 )\nPrices for rafting vary\, depending on the company you choose and the d
 uration.\nClass 2-3\, age 6 &amp\; up\, durations vary: $71 - $106\nClasse
 s 4 &amp\; 5 are considered Day Trips (6-8 hrs)\, and\, depending on safe 
 water level\, until May 1.\nClass 4\, age 12 &amp\; up\, 5 minimum: $143 -
  $160\nClass 5\, age 16 and up &amp\; swim skill test: $262 - $292\n*** BR
 ANDON'S BIGWATER RUN FRIDAY***\nBrandon is organizing a Half-Day Class 4 R
 afting Trip on Friday for a Group of 12\, $144 ea. (&lt\;12 $159 ea)\nTo s
 ign up\, or for more info\, contact Brandon (760)522-2469\nAddress:\n11252
  Kernville Rd\, Kernville\, CA 93238\nLocation Type (Park\, club\, church\
 , etc.)\nFrandy's Campground is hosting our event.\nThey are open from 8 a
 m to 10 PM.\nPlease do not get to the site after hours. Plan accordingly.\
 nLocation Notes\nThe campsite is right next to the bridge in town.\nPlease
  call Frandy’s if you're running late. +1 (888) 372-6399\n\n\n\nContact 
 Info:\nHECTOR R - Chair - (619) 430-0462\nBrandon - Member - (760) 522-246
 9\nEmily - Member - (760) 703-3170\nCaspar - Member - (619) 901-5895
ATTACH;FMTTYPE=image/jpeg:https://sandiegona.org/wp-content/uploads/formin
 ator/6338_0e3333ed9f6cdf5662290b487a2c51b0/uploads/cLOjVpXI8NxP-1522686270
 67012077.jpeg
CATEGORIES:Events,Social/Activities
LOCATION:Frandy Park Campground\, 11252 Kernville Rd\, Kernville\, CA\, 932
 38\, United States
X-APPLE-STRUCTURED-LOCATION;VALUE=URI;X-ADDRESS=11252 Kernville Rd\, Kernvi
 lle\, CA\, 93238\, United States;X-APPLE-RADIUS=100;X-TITLE=Frandy Park Ca
 mpground:geo:0,0
END:VEVENT
BEGIN:VTIMEZONE
TZID:America/Los_Angeles
X-LIC-LOCATION:America/Los_Angeles
BEGIN:DAYLIGHT
DTSTART:20260308T030000
TZOFFSETFROM:-0800
TZOFFSETTO:-0700
TZNAME:PDT
END:DAYLIGHT
END:VTIMEZONE
END:VCALENDAR