BEGIN:VCALENDAR
VERSION:2.0
PRODID:-//wp-events-plugin.com//7.2.3.1//EN
TZID:America/Los_Angeles
X-WR-TIMEZONE:America/Los_Angeles
BEGIN:VEVENT
UID:3745@sandiegona.org
DTSTART;TZID=America/Los_Angeles:20340718T180000
DTEND;TZID=America/Los_Angeles:20340718T200000
DTSTAMP:20251205T013418Z
URL:https://sandiegona.org/events/regional-pr-meeting-2034-07-18/
SUMMARY:Regional Public Relations Subcommittee
DESCRIPTION:Regional Public Relations Subcommittee\nThe Regional Public Rel
 ations Subcommittee meets on the 3rd Tuesday of every month\,\n6 PM - 8 PM
 \nThe meeting will be hybrid.\nJoin Zoom Meeting\nhttps://us06web.zoom.us/
 j/94221849276?pwd=VHZibVVTNGh5M0gxSTZ5NnZ6SlRaZz09\nMeeting ID: 942 2184 9
 276\nPasscode: freedom\nFind your local Toll-free number: https://us06web.
 zoom.us/u/kdq1BUhOAW
ATTACH;FMTTYPE=image/jpeg:https://sandiegona.org/wp-content/uploads/2024/0
 7/bullhorn.png
CATEGORIES:Regional Service Meetings,Service,Subcommittee
LOCATION:RSO\, 2111 Camino del Rio South\, San Diego\, CA\, 92108\, United 
 States
X-APPLE-STRUCTURED-LOCATION;VALUE=URI;X-ADDRESS=2111 Camino del Rio South\,
  San Diego\, CA\, 92108\, United States;X-APPLE-RADIUS=100;X-TITLE=RSO:geo
 :0,0
END:VEVENT
BEGIN:VTIMEZONE
TZID:America/Los_Angeles
X-LIC-LOCATION:America/Los_Angeles
BEGIN:DAYLIGHT
DTSTART:20340312T030000
TZOFFSETFROM:-0800
TZOFFSETTO:-0700
TZNAME:PDT
END:DAYLIGHT
END:VTIMEZONE
END:VCALENDAR