BEGIN:VCALENDAR
VERSION:2.0
PRODID:-//wp-events-plugin.com//7.2.3.1//EN
TZID:America/Los_Angeles
X-WR-TIMEZONE:America/Los_Angeles
BEGIN:VEVENT
UID:3592@sandiegona.org
DTSTART;TZID=America/Los_Angeles:20270511T180000
DTEND;TZID=America/Los_Angeles:20270511T200000
DTSTAMP:20260415T210111Z
URL:https://sandiegona.org/events/regional-public-information-workgroup-20
 27-05-11/
SUMMARY:Regional Public Information Workgroup
DESCRIPTION:Public Information and Fellowship Development\nThe Regional Pub
 lic Information Workgroup meets on the 2nd Tuesday\,\n6 PM - 8 PM\nThe mee
 ting will be hybrid\n\nJoin Zoom Meeting\nhttps://us06web.zoom.us/j/857952
 67392?pwd=Q01IZEpmbUorMk5uN056U1dqeExwZz09\nMeeting ID: 857 9526 7392\nPa
 sscode: freedom\nOne tap mobile\n+14086380968\,\,85795267392#\,\,\,\,*679
 0675# US (San Jose)\n+16699006833\,\,85795267392#\,\,\,\,*6790675# US (San
  Jose)\nDial by your location\n+1 408 638 0968 US (San Jose)\n+1 669 900 6
 833 US (San Jose)\n+1 253 215 8782 US (Tacoma)\n+1 346 248 7799 US (Housto
 n)\n+1 301 715 8592 US (Washington DC)\n+1 312 626 6799 US (Chicago)\n+1 6
 46 876 9923 US (New York)\nMeeting ID: 857 9526 7392\nPasscode: 6790675\
 nFind your local number: https://us06web.zoom.us/u/kcQWUSEvBu\n&nbsp\;\n\
 n\n\nArea Subcommittees\n[events_list limit="4" event_category category="p
 ublic-information"]
CATEGORIES:Regional Service Meetings,Service,Workgroup
LOCATION:RSO\, 2111 Camino del Rio South\, San Diego\, CA\, 92108\, United 
 States
X-APPLE-STRUCTURED-LOCATION;VALUE=URI;X-ADDRESS=2111 Camino del Rio South\,
  San Diego\, CA\, 92108\, United States;X-APPLE-RADIUS=100;X-TITLE=RSO:geo
 :0,0
END:VEVENT
BEGIN:VTIMEZONE
TZID:America/Los_Angeles
X-LIC-LOCATION:America/Los_Angeles
BEGIN:DAYLIGHT
DTSTART:20270314T030000
TZOFFSETFROM:-0800
TZOFFSETTO:-0700
TZNAME:PDT
END:DAYLIGHT
END:VTIMEZONE
END:VCALENDAR