BEGIN:VCALENDAR
VERSION:2.0
PRODID:-//wp-events-plugin.com//7.2.3.1//EN
TZID:America/Los_Angeles
X-WR-TIMEZONE:America/Los_Angeles
BEGIN:VEVENT
UID:3077@sandiegona.org
DTSTART;TZID=America/Los_Angeles:20281104T103000
DTEND;TZID=America/Los_Angeles:20281104T123000
DTSTAMP:20250422T171509Z
URL:https://sandiegona.org/events/rso-board-of-directors-2028-11-04/
SUMMARY:RSO Board of Directors
DESCRIPTION:We meet on the first Saturday of every month at the RSO\nRegion
 al Service Office Webpage
ATTACH;FMTTYPE=image/jpeg:https://sandiegona.org/wp-content/uploads/2025/0
 2/director.jpg
CATEGORIES:Regional Service Meetings,Service
LOCATION:RSO\, 2111 Camino del Rio South\, San Diego\, CA\, 92108\, United 
 States
X-APPLE-STRUCTURED-LOCATION;VALUE=URI;X-ADDRESS=2111 Camino del Rio South\,
  San Diego\, CA\, 92108\, United States;X-APPLE-RADIUS=100;X-TITLE=RSO:geo
 :0,0
END:VEVENT
BEGIN:VTIMEZONE
TZID:America/Los_Angeles
X-LIC-LOCATION:America/Los_Angeles
BEGIN:DAYLIGHT
DTSTART:20280312T030000
TZOFFSETFROM:-0800
TZOFFSETTO:-0700
TZNAME:PDT
END:DAYLIGHT
END:VTIMEZONE
END:VCALENDAR