BEGIN:VCALENDAR
VERSION:2.0
PRODID:-//wp-events-plugin.com//7.2.3.1//EN
TZID:America/Los_Angeles
X-WR-TIMEZONE:America/Los_Angeles
BEGIN:VEVENT
UID:2572@sandiegona.org
DTSTART;TZID=America/Los_Angeles:20271211T130000
DTEND;TZID=America/Los_Angeles:20271211T160000
DTSTAMP:20250422T171446Z
URL:https://sandiegona.org/events/san-diego-regional-service-committee-rsc
 -2027-12-11/
SUMMARY:San Diego Regional Service Committee (RSC)
DESCRIPTION:We meet @ 1:00pm on the 2nd Saturday of every month at the RSO\
 nRSO Location\nJoin Zoom Meeting:\nZoom Meeting Link\nZoom: 850 0393 2169
 \nPwd: freedom\nDownloads:\nRCM Report – PDF\nRCM Report – Online For
 m\nSub-Comm Report – PDF\nRSC Sub-Committee Report – Online Form\nRSC 
 Motion Procedures – PDF\nRSC Motion Procedures – Online Form
ATTACH;FMTTYPE=image/jpeg:https://sandiegona.org/wp-content/uploads/2025/0
 2/service-committee.jpg
CATEGORIES:Regional Service Meetings,Service
LOCATION:RSO\, 2111 Camino del Rio South\, San Diego\, CA\, 92108\, United 
 States
X-APPLE-STRUCTURED-LOCATION;VALUE=URI;X-ADDRESS=2111 Camino del Rio South\,
  San Diego\, CA\, 92108\, United States;X-APPLE-RADIUS=100;X-TITLE=RSO:geo
 :0,0
END:VEVENT
BEGIN:VTIMEZONE
TZID:America/Los_Angeles
X-LIC-LOCATION:America/Los_Angeles
BEGIN:STANDARD
DTSTART:20271107T010000
TZOFFSETFROM:-0700
TZOFFSETTO:-0800
TZNAME:PST
END:STANDARD
END:VTIMEZONE
END:VCALENDAR