BEGIN:VCALENDAR
VERSION:2.0
PRODID:-//wp-events-plugin.com//7.2.3.1//EN
TZID:America/Los_Angeles
X-WR-TIMEZONE:America/Los_Angeles
BEGIN:VEVENT
UID:2379@sandiegona.org
DTSTART;TZID=America/Los_Angeles:20271106T100000
DTEND;TZID=America/Los_Angeles:20271106T120000
DTSTAMP:20250422T171151Z
URL:https://sandiegona.org/events/south-east-barrio-area-service-committee
 -2027-11-06/
SUMMARY:South East Barrio Area Service Committee Meeting
DESCRIPTION:The South East Barrio Area Service Committee meets on the first
  Saturday of every month at 10:00 am at 641 S. Boundary St\, rec ctr. 921
 13
ATTACH;FMTTYPE=image/jpeg:https://sandiegona.org/wp-content/uploads/2025/0
 2/SE-Barrio-ASC.png
CATEGORIES:Area Service Committee Meeting,Service
LOCATION:Community Center\, 641 S Boundary St\, San Diego\, CA\, 92113\, Un
 ited States
X-APPLE-STRUCTURED-LOCATION;VALUE=URI;X-ADDRESS=641 S Boundary St\, San Die
 go\, CA\, 92113\, United States;X-APPLE-RADIUS=100;X-TITLE=Community Cente
 r:geo:0,0
END:VEVENT
BEGIN:VTIMEZONE
TZID:America/Los_Angeles
X-LIC-LOCATION:America/Los_Angeles
BEGIN:DAYLIGHT
DTSTART:20270314T030000
TZOFFSETFROM:-0800
TZOFFSETTO:-0700
TZNAME:PDT
END:DAYLIGHT
END:VTIMEZONE
END:VCALENDAR