BEGIN:VCALENDAR
VERSION:2.0
PRODID:-//wp-events-plugin.com//7.2.3.1//EN
TZID:America/Los_Angeles
X-WR-TIMEZONE:America/Los_Angeles
BEGIN:VEVENT
UID:2317@sandiegona.org
DTSTART;TZID=America/Los_Angeles:20271125T180000
DTEND;TZID=America/Los_Angeles:20271125T200000
DTSTAMP:20250422T171235Z
URL:https://sandiegona.org/events/southbay-area-service-committee-2027-11-
 25/
SUMMARY:Southbay Area Service Committee Meeting
DESCRIPTION:The Southbay Area Service Committee meets the 4th Thursday of e
 very month at 6:00 pm at 940 Hilltop Dr.\, Chula Vista 91911
ATTACH;FMTTYPE=image/jpeg:https://sandiegona.org/wp-content/uploads/2025/0
 2/Southbay-ASC.png
CATEGORIES:Area Service Committee Meeting,Service
LOCATION:Church\, 940 Hilltop Dr\, Chula Vista\, CA\, 91911\, United States
X-APPLE-STRUCTURED-LOCATION;VALUE=URI;X-ADDRESS=940 Hilltop Dr\, Chula Vist
 a\, CA\, 91911\, United States;X-APPLE-RADIUS=100;X-TITLE=Church:geo:0,0
END:VEVENT
BEGIN:VTIMEZONE
TZID:America/Los_Angeles
X-LIC-LOCATION:America/Los_Angeles
BEGIN:STANDARD
DTSTART:20271107T010000
TZOFFSETFROM:-0700
TZOFFSETTO:-0800
TZNAME:PST
END:STANDARD
END:VTIMEZONE
END:VCALENDAR