BEGIN:VCALENDAR
VERSION:2.0
PRODID:-//wp-events-plugin.com//7.2.3.1//EN
TZID:America/Los_Angeles
X-WR-TIMEZONE:America/Los_Angeles
BEGIN:VEVENT
UID:2425@sandiegona.org
DTSTART;TZID=America/Los_Angeles:20260728T180000
DTEND;TZID=America/Los_Angeles:20260728T200000
DTSTAMP:20250422T171427Z
URL:https://sandiegona.org/events/united-east-county-area-service-committe
 e-2026-07-28/
SUMMARY:United East County Area Service Committee Meeting
DESCRIPTION:The United East County Area Service Committee meets on the four
 th Tuesday of every month at 6:00 pm at 1365 N. Johnson Ave.\, El Cajon\, 
 CA 92020
ATTACH;FMTTYPE=image/jpeg:https://sandiegona.org/wp-content/uploads/2025/0
 2/UEC-ASC.png
CATEGORIES:Area Service Committee Meeting,Service
LOCATION:Bingo Hall\, 1365 N. Johnson Ave.\, El Cajon\, CA\, 92020\, United
  States
X-APPLE-STRUCTURED-LOCATION;VALUE=URI;X-ADDRESS=1365 N. Johnson Ave.\, El C
 ajon\, CA\, 92020\, United States;X-APPLE-RADIUS=100;X-TITLE=Bingo Hall:ge
 o:0,0
END:VEVENT
BEGIN:VTIMEZONE
TZID:America/Los_Angeles
X-LIC-LOCATION:America/Los_Angeles
BEGIN:DAYLIGHT
DTSTART:20260308T030000
TZOFFSETFROM:-0800
TZOFFSETTO:-0700
TZNAME:PDT
END:DAYLIGHT
END:VTIMEZONE
END:VCALENDAR