BEGIN:VCALENDAR
VERSION:2.0
PRODID:-//wp-events-plugin.com//7.2.3.1//EN
TZID:America/Los_Angeles
X-WR-TIMEZONE:America/Los_Angeles
BEGIN:VEVENT
UID:3122@sandiegona.org
DTSTART;TZID=America/Los_Angeles:20270911T103000
DTEND;TZID=America/Los_Angeles:20270911T113000
DTSTAMP:20250910T165239Z
URL:https://sandiegona.org/events/website-workgroup-2027-09-11/
SUMMARY:Website Workgroup
DESCRIPTION:San Diego NA Website Workgroup\nJoin us on Google Meet to share
  ideas\, discuss improvements\, raise concerns\, ask how the website can a
 ssist you\, or learn about its features and uses.\nWe meet at 10:30 AM on 
 the 2nd Saturday of every other month.\n(Jan\, Mar\, May\, Jul\, Sep\, Nov
 )\nRequest an invite\nThe meeting will end if no one arrives within the fi
 rst 15 minutes.
ATTACH;FMTTYPE=image/jpeg:https://sandiegona.org/wp-content/uploads/2025/0
 2/webdesign-2044932_1280.png
CATEGORIES:Regional Service Meetings,Service,Workgroup
LOCATION:https://sandiegona.org/website-workgroup-invite/
END:VEVENT
BEGIN:VTIMEZONE
TZID:America/Los_Angeles
X-LIC-LOCATION:America/Los_Angeles
BEGIN:DAYLIGHT
DTSTART:20270314T030000
TZOFFSETFROM:-0800
TZOFFSETTO:-0700
TZNAME:PDT
END:DAYLIGHT
END:VTIMEZONE
END:VCALENDAR